BEGIN:VCALENDAR
VERSION:2.0
PRODID:-//CoMeT - ECPv6.15.14//NONSGML v1.0//EN
CALSCALE:GREGORIAN
METHOD:PUBLISH
X-WR-CALNAME:CoMeT
X-ORIGINAL-URL:https://comet-collegium.com
X-WR-CALDESC:Events for CoMeT
REFRESH-INTERVAL;VALUE=DURATION:PT1H
X-Robots-Tag:noindex
X-PUBLISHED-TTL:PT1H
BEGIN:VTIMEZONE
TZID:America/Mexico_City
BEGIN:STANDARD
TZOFFSETFROM:-0600
TZOFFSETTO:-0600
TZNAME:CST
DTSTART:20240101T000000
END:STANDARD
END:VTIMEZONE
BEGIN:VTIMEZONE
TZID:Europe/Paris
BEGIN:DAYLIGHT
TZOFFSETFROM:+0100
TZOFFSETTO:+0200
TZNAME:CEST
DTSTART:20200329T010000
END:DAYLIGHT
BEGIN:STANDARD
TZOFFSETFROM:+0200
TZOFFSETTO:+0100
TZNAME:CET
DTSTART:20201025T010000
END:STANDARD
BEGIN:DAYLIGHT
TZOFFSETFROM:+0100
TZOFFSETTO:+0200
TZNAME:CEST
DTSTART:20210328T010000
END:DAYLIGHT
BEGIN:STANDARD
TZOFFSETFROM:+0200
TZOFFSETTO:+0100
TZNAME:CET
DTSTART:20211031T010000
END:STANDARD
BEGIN:DAYLIGHT
TZOFFSETFROM:+0100
TZOFFSETTO:+0200
TZNAME:CEST
DTSTART:20220327T010000
END:DAYLIGHT
BEGIN:STANDARD
TZOFFSETFROM:+0200
TZOFFSETTO:+0100
TZNAME:CET
DTSTART:20221030T010000
END:STANDARD
BEGIN:DAYLIGHT
TZOFFSETFROM:+0100
TZOFFSETTO:+0200
TZNAME:CEST
DTSTART:20230326T010000
END:DAYLIGHT
BEGIN:STANDARD
TZOFFSETFROM:+0200
TZOFFSETTO:+0100
TZNAME:CET
DTSTART:20231029T010000
END:STANDARD
BEGIN:DAYLIGHT
TZOFFSETFROM:+0100
TZOFFSETTO:+0200
TZNAME:CEST
DTSTART:20240331T010000
END:DAYLIGHT
BEGIN:STANDARD
TZOFFSETFROM:+0200
TZOFFSETTO:+0100
TZNAME:CET
DTSTART:20241027T010000
END:STANDARD
BEGIN:DAYLIGHT
TZOFFSETFROM:+0100
TZOFFSETTO:+0200
TZNAME:CEST
DTSTART:20250330T010000
END:DAYLIGHT
BEGIN:STANDARD
TZOFFSETFROM:+0200
TZOFFSETTO:+0100
TZNAME:CET
DTSTART:20251026T010000
END:STANDARD
END:VTIMEZONE
BEGIN:VTIMEZONE
TZID:America/New_York
BEGIN:DAYLIGHT
TZOFFSETFROM:-0500
TZOFFSETTO:-0400
TZNAME:EDT
DTSTART:20220313T070000
END:DAYLIGHT
BEGIN:STANDARD
TZOFFSETFROM:-0400
TZOFFSETTO:-0500
TZNAME:EST
DTSTART:20221106T060000
END:STANDARD
BEGIN:DAYLIGHT
TZOFFSETFROM:-0500
TZOFFSETTO:-0400
TZNAME:EDT
DTSTART:20230312T070000
END:DAYLIGHT
BEGIN:STANDARD
TZOFFSETFROM:-0400
TZOFFSETTO:-0500
TZNAME:EST
DTSTART:20231105T060000
END:STANDARD
BEGIN:DAYLIGHT
TZOFFSETFROM:-0500
TZOFFSETTO:-0400
TZNAME:EDT
DTSTART:20240310T070000
END:DAYLIGHT
BEGIN:STANDARD
TZOFFSETFROM:-0400
TZOFFSETTO:-0500
TZNAME:EST
DTSTART:20241103T060000
END:STANDARD
END:VTIMEZONE
BEGIN:VEVENT
DTSTART;TZID=America/Mexico_City:20260412T130000
DTEND;TZID=America/Mexico_City:20260412T160000
DTSTAMP:20260420T055808
CREATED:20260410T071002Z
LAST-MODIFIED:20260410T071003Z
UID:8450-1775998800-1776009600@comet-collegium.com
SUMMARY:Como Cuidar tu Voz
DESCRIPTION:
URL:https://comet-collegium.com/event/como-cuidar-tu-voz/
LOCATION:Centro de Foniatría y Audiología\, Mexico
CATEGORIES:Other associations
ORGANIZER;CN="Centro de Foniatr%C3%ADa y Audiolog%C3%ADa":MAILTO:eugeniachavez@hotmail.com
END:VEVENT
BEGIN:VEVENT
DTSTART;VALUE=DATE:20260325
DTEND;VALUE=DATE:20260329
DTSTAMP:20260420T055808
CREATED:20251102T054655Z
LAST-MODIFIED:20260325T234014Z
UID:8172-1774396800-1774742399@comet-collegium.com
SUMMARY:PEVoC 16\, VOICEISTANBUL
DESCRIPTION:
URL:https://comet-collegium.com/event/pevoc-16-voiceistanbul/
LOCATION:PEVOC\, Santander\, Spain
CATEGORIES:Other associations
END:VEVENT
BEGIN:VEVENT
DTSTART;TZID=America/Mexico_City:20251126T120000
DTEND;TZID=America/Mexico_City:20251126T150000
DTSTAMP:20260420T055808
CREATED:20251123T235048Z
LAST-MODIFIED:20251214T063021Z
UID:8337-1764158400-1764169200@comet-collegium.com
SUMMARY:Commemoration of International Musician's Day\, November 2025
DESCRIPTION:Lecture: "The Care of the Spoken and Artistic Voice" by Dr. R. Eugenia Chávez Calderón\, Phoniatrist
URL:https://comet-collegium.com/event/conmemoracion-del-dia-internacional-del-musico/
LOCATION:Sala “Laszlo Frater”\, Blvd. Jesús Reyes Heroles #302\, Toluca\, Delegación San Buenaventura\, Mexico
CATEGORIES:Other associations
END:VEVENT
BEGIN:VEVENT
DTSTART;VALUE=DATE:20251120
DTEND;VALUE=DATE:20251124
DTSTAMP:20260420T055808
CREATED:20251102T070038Z
LAST-MODIFIED:20251102T070711Z
UID:8184-1763596800-1763942399@comet-collegium.com
SUMMARY:La Voce Artistica
DESCRIPTION:
URL:https://comet-collegium.com/event/la-voce-artistica/
LOCATION:Teatro Alighieri Ravenna\, Via Angelo Mariani\, 2\, 48121 Ravenna RA\, Italia\, Ravenna\, Italy
CATEGORIES:Other associations
END:VEVENT
BEGIN:VEVENT
DTSTART;VALUE=DATE:20240904
DTEND;VALUE=DATE:20240908
DTSTAMP:20260420T055808
CREATED:20240203T083328Z
LAST-MODIFIED:20240205T113733Z
UID:7244-1725408000-1725753599@comet-collegium.com
SUMMARY:15th Congress of the PEVOC
DESCRIPTION:
URL:https://comet-collegium.com/event/15th-congress-of-the-pevoc/
LOCATION:PEVOC\, Santander\, Spain
CATEGORIES:Other associations
END:VEVENT
BEGIN:VEVENT
DTSTART;VALUE=DATE:20240904
DTEND;VALUE=DATE:20240908
DTSTAMP:20260420T055808
CREATED:20240203T083328Z
LAST-MODIFIED:20240203T083328Z
UID:7607-1725408000-1725753599@comet-collegium.com
SUMMARY:15th Congress of the PEVOC
DESCRIPTION:
URL:https://comet-collegium.com/event/15th-congress-of-the-pevoc-2/
LOCATION:PEVOC\, Santander\, Spain
CATEGORIES:Other associations
END:VEVENT
BEGIN:VEVENT
DTSTART;VALUE=DATE:20230531
DTEND;VALUE=DATE:20230601
DTSTAMP:20260420T055808
CREATED:20230531T002142Z
LAST-MODIFIED:20230531T002529Z
UID:7134-1685491200-1685577599@comet-collegium.com
SUMMARY:52th Symposium of the Voice Foundation\, Care of The Professional Voice
DESCRIPTION:﻿
URL:https://comet-collegium.com/event/52th-symposium-of-the-voice-foundation-care-of-the-professional-voice/
CATEGORIES:Other associations
END:VEVENT
BEGIN:VEVENT
DTSTART;VALUE=DATE:20230531
DTEND;VALUE=DATE:20230601
DTSTAMP:20260420T055808
CREATED:20230531T002142Z
LAST-MODIFIED:20230531T002142Z
UID:7601-1685491200-1685577599@comet-collegium.com
SUMMARY:52th Symposium of the Voice Foundation\, Care of The Professional Voice
DESCRIPTION:﻿
URL:https://comet-collegium.com/event/52th-symposium-of-the-voice-foundation-care-of-the-professional-voice-2/
CATEGORIES:Other associations
END:VEVENT
BEGIN:VEVENT
DTSTART;VALUE=DATE:20230427
DTEND;VALUE=DATE:20230501
DTSTAMP:20260420T055808
CREATED:20221227T014959Z
LAST-MODIFIED:20221227T014959Z
UID:6931-1682553600-1682899199@comet-collegium.com
SUMMARY:30th Congress Antalya UEP
DESCRIPTION:
URL:https://comet-collegium.com/event/30th-congress-antalya-uep/
CATEGORIES:Other associations
END:VEVENT
BEGIN:VEVENT
DTSTART;VALUE=DATE:20230427
DTEND;VALUE=DATE:20230501
DTSTAMP:20260420T055808
CREATED:20221227T014959Z
LAST-MODIFIED:20221227T014959Z
UID:7596-1682553600-1682899199@comet-collegium.com
SUMMARY:30th Congress Antalya UEP
DESCRIPTION:
URL:https://comet-collegium.com/event/30th-congress-antalya-uep-2/
CATEGORIES:Other associations
END:VEVENT
BEGIN:VEVENT
DTSTART;VALUE=DATE:20211209
DTEND;VALUE=DATE:20211212
DTSTAMP:20260420T055808
CREATED:20211206T150001Z
LAST-MODIFIED:20211206T150001Z
UID:7590-1639008000-1639267199@comet-collegium.com
SUMMARY:UEP 50th Anniversary
DESCRIPTION:
URL:https://comet-collegium.com/event/uep-50th-anniversary-2/
LOCATION:Crowne Plaza Hotel Belgrade\, Belgrade\, Serbia
CATEGORIES:Other associations
END:VEVENT
BEGIN:VEVENT
DTSTART;VALUE=DATE:20211209
DTEND;VALUE=DATE:20211212
DTSTAMP:20260420T055808
CREATED:20211206T150001Z
LAST-MODIFIED:20211206T150328Z
UID:6519-1639008000-1639267199@comet-collegium.com
SUMMARY:UEP 50th Anniversary
DESCRIPTION:
URL:https://comet-collegium.com/event/uep-50th-anniversary/
LOCATION:Crowne Plaza Hotel Belgrade\, Belgrade\, Serbia
CATEGORIES:Other associations
END:VEVENT
END:VCALENDAR