BEGIN:VCALENDAR
VERSION:2.0
PRODID:-//CoMeT - ECPv6.15.14//NONSGML v1.0//EN
CALSCALE:GREGORIAN
METHOD:PUBLISH
X-WR-CALNAME:CoMeT
X-ORIGINAL-URL:https://comet-collegium.com
X-WR-CALDESC:Events for CoMeT
REFRESH-INTERVAL;VALUE=DURATION:PT1H
X-Robots-Tag:noindex
X-PUBLISHED-TTL:PT1H
BEGIN:VTIMEZONE
TZID:Europe/Paris
BEGIN:DAYLIGHT
TZOFFSETFROM:+0100
TZOFFSETTO:+0200
TZNAME:CEST
DTSTART:20220327T010000
END:DAYLIGHT
BEGIN:STANDARD
TZOFFSETFROM:+0200
TZOFFSETTO:+0100
TZNAME:CET
DTSTART:20221030T010000
END:STANDARD
BEGIN:DAYLIGHT
TZOFFSETFROM:+0100
TZOFFSETTO:+0200
TZNAME:CEST
DTSTART:20230326T010000
END:DAYLIGHT
BEGIN:STANDARD
TZOFFSETFROM:+0200
TZOFFSETTO:+0100
TZNAME:CET
DTSTART:20231029T010000
END:STANDARD
BEGIN:DAYLIGHT
TZOFFSETFROM:+0100
TZOFFSETTO:+0200
TZNAME:CEST
DTSTART:20240331T010000
END:DAYLIGHT
BEGIN:STANDARD
TZOFFSETFROM:+0200
TZOFFSETTO:+0100
TZNAME:CET
DTSTART:20241027T010000
END:STANDARD
END:VTIMEZONE
BEGIN:VEVENT
DTSTART;TZID=Europe/Paris:20230701T100000
DTEND;TZID=Europe/Paris:20230701T130000
DTSTAMP:20260420T041441
CREATED:20230621T234826Z
LAST-MODIFIED:20230621T234911Z
UID:7148-1688205600-1688216400@comet-collegium.com
SUMMARY:16th Online Academic Session
DESCRIPTION:Our 16th online session will take place on July 1st at 10:00 (Mexico City time / GMT-6). We look forward to an interesting exchange.
URL:https://comet-collegium.com/event/16th-online-academic-session/
CATEGORIES:Academic Sessions
END:VEVENT
BEGIN:VEVENT
DTSTART;TZID=Europe/Paris:20230701T100000
DTEND;TZID=Europe/Paris:20230701T130000
DTSTAMP:20260420T041441
CREATED:20230621T234826Z
LAST-MODIFIED:20230621T234826Z
UID:7602-1688205600-1688216400@comet-collegium.com
SUMMARY:16th Online Academic Session
DESCRIPTION:Our 16th online session will take place on July 1st at 10:00 (Mexico City time / GMT-6). We look forward to an interesting exchange.
URL:https://comet-collegium.com/event/16th-online-academic-session-2/
CATEGORIES:Academic Sessions
END:VEVENT
END:VCALENDAR